BEGIN:VCALENDAR
VERSION:2.0
PRODID:SchoolNow
CALSCALE:GREGORIAN
BEGIN:VEVENT
UID:8046482a-9a1c-11f0-a24d-0a58a9feac02
DTSTAMP:20251015T191420Z
SUMMARY:Executive Session - 102125
LOCATION:Administration Center\, 41 Williams Street\, Hammond\, IN 46320
URL;VALUE=URI:https://www.hammond.k12.in.us/calendar/8663062/executive-sess
 ion-102125
DTSTART:20251021T221500Z
DTEND:20251021T230000Z
ATTACH;FILENAME=SCH_Exec Sess_Oct 2025_R.pdf;FMTTYPE=application/pdf:https:
 //campussuite-storage.s3.amazonaws.com/prod/1559033/fab8744a-ab41-11ea-9bf
 a-127f10bcdb1b/3021532/23ecc3e4-a9fb-11f0-b333-0a58a9feac02/file/SCH_Exec 
 Sess_Oct 2025_R.pdf
END:VEVENT
END:VCALENDAR
