BEGIN:VCALENDAR
VERSION:2.0
PRODID:SchoolNow
CALSCALE:GREGORIAN
BEGIN:VEVENT
UID:61a3dde2-9a1c-11f0-989f-0affdb44ff1b
DTSTAMP:20250925T144309Z
SUMMARY:Executive Session - 093025
LOCATION:Administration Center\, 41 Williams Street\, Hammond\, IN 46320
URL;VALUE=URI:https://www.hammond.k12.in.us/calendar/8663060/executive-sess
 ion-093025
DTSTART:20250930T221500Z
DTEND:20250930T230000Z
ATTACH;FILENAME=SCH_PWS ExS_Sep Oct 2025.pdf;FMTTYPE=application/pdf:https:
 //campussuite-storage.s3.amazonaws.com/prod/1559033/fab8744a-ab41-11ea-9bf
 a-127f10bcdb1b/3012902/edc14f7a-9a1d-11f0-a639-02978cd4ae17/file/SCH_PWS E
 xS_Sep Oct 2025.pdf
END:VEVENT
END:VCALENDAR
