BEGIN:VCALENDAR
VERSION:2.0
PRODID:SchoolNow
CALSCALE:GREGORIAN
BEGIN:VEVENT
UID:e58a0d10-8ccb-11f0-8a72-0e73a3925813
DTSTAMP:20250908T155300Z
SUMMARY:Public Hearing of the HTF and the SCH
LOCATION:Administration Center\, 41 Williams Street\, Hammond\, IN 46320
URL;VALUE=URI:https://www.hammond.k12.in.us/calendar/8594917/public-hearing
 -of-the-htf-and-the-sch-clone
DTSTART:20250909T211500Z
DTEND:20250909T221500Z
ATTACH;FILENAME=Notice_Public_Hearing_HTF SCH_090925.pdf;FMTTYPE=applicatio
 n/pdf:https://campussuite-storage.s3.amazonaws.com/prod/1559033/fab8744a-a
 b41-11ea-9bfa-127f10bcdb1b/3004456/dd5e6546-8ccb-11f0-8469-0e8bc1cedf75/fi
 le/Notice_Public_Hearing_HTF SCH_090925.pdf
END:VEVENT
END:VCALENDAR
