BEGIN:VCALENDAR
VERSION:2.0
PRODID:SchoolNow
CALSCALE:GREGORIAN
BEGIN:VEVENT
UID:977beb36-7f81-11f0-8fa0-022e31aca1f7
DTSTAMP:20250902T181934Z
SUMMARY:Executive Session - 092325
LOCATION:Administration Center\, 41 Williams Street\, Hammond\, IN 46320
URL;VALUE=URI:https://www.hammond.k12.in.us/calendar/8533684/executive-sess
 ion-092325
DTSTART:20250923T221500Z
DTEND:20250923T230000Z
ATTACH;FILENAME=SCH_Exec Sess_Sep 2025_R.pdf;FMTTYPE=application/pdf:https:
 //campussuite-storage.s3.amazonaws.com/prod/1559033/fab8744a-ab41-11ea-9bf
 a-127f10bcdb1b/3002064/4dffc954-8829-11f0-91a8-029f65b6582b/file/SCH_Exec 
 Sess_Sep 2025_R.pdf
END:VEVENT
END:VCALENDAR
