BEGIN:VCALENDAR
VERSION:2.0
PRODID:SchoolNow
CALSCALE:GREGORIAN
BEGIN:VEVENT
UID:8d8c6ed4-7f81-11f0-8535-0a58a9feac02
DTSTAMP:20250822T175805Z
SUMMARY:Executive Session - 090225
LOCATION:Administration Center\, 41 Williams Street\, Hammond\, IN 46320
URL;VALUE=URI:https://www.hammond.k12.in.us/calendar/8533683/executive-sess
 ion-090225
DTSTART:20250902T221500Z
DTEND:20250902T230000Z
ATTACH;FILENAME=SCH_Exec Sess_Sep 2025.pdf;FMTTYPE=application/pdf:https://
 campussuite-storage.s3.amazonaws.com/prod/1559033/fab8744a-ab41-11ea-9bfa-
 127f10bcdb1b/2997730/874cee72-7f81-11f0-8375-0afff983aa55/file/SCH_Exec Se
 ss_Sep 2025.pdf
END:VEVENT
END:VCALENDAR
