BEGIN:VCALENDAR
VERSION:2.0
PRODID:SchoolNow
CALSCALE:GREGORIAN
BEGIN:VEVENT
UID:f1ca1eec-7f80-11f0-916b-0affc1bf85c7
DTSTAMP:20250822T175343Z
SUMMARY:School Board Meeting - 090225
LOCATION:Administration Center\, 41 Williams Street\, Hammond\, IN 46320
URL;VALUE=URI:https://www.hammond.k12.in.us/calendar/8533681/school-board-m
 eeting-090225
DTSTART:20250902T230000Z
DTEND:20250903T000000Z
END:VEVENT
END:VCALENDAR
