BEGIN:VCALENDAR
VERSION:2.0
PRODID:SchoolNow
CALSCALE:GREGORIAN
BEGIN:VEVENT
UID:f7738f36-67d4-11f0-aa82-0e1acee5daff
DTSTAMP:20250723T145443Z
SUMMARY:Last Day of School
URL;VALUE=URI:https://www.hammond.k12.in.us/calendar/8440177/last-day-of-sc
 hool
DTSTART;VALUE=DATE:20260529
DTEND;VALUE=DATE:20260530
END:VEVENT
END:VCALENDAR
