BEGIN:VCALENDAR
VERSION:2.0
PRODID:SchoolNow
CALSCALE:GREGORIAN
BEGIN:VEVENT
UID:586be71e-67d2-11f0-95cd-0e1acee5daff
DTSTAMP:20250723T143557Z
SUMMARY:Memorial Day (No School)
URL;VALUE=URI:https://www.hammond.k12.in.us/calendar/8440176/memorial-day-n
 o-school
DTSTART;VALUE=DATE:20260525
DTEND;VALUE=DATE:20260526
END:VEVENT
END:VCALENDAR
