BEGIN:VCALENDAR
VERSION:2.0
PRODID:SchoolNow
CALSCALE:GREGORIAN
BEGIN:VEVENT
UID:31b28650-67d2-11f0-bedd-0a58a9feac02
DTSTAMP:20250723T143452Z
SUMMARY:Election Day (No School)
URL;VALUE=URI:https://www.hammond.k12.in.us/calendar/8440174/election-day-n
 o-school
DTSTART;VALUE=DATE:20260505
DTEND;VALUE=DATE:20260506
END:VEVENT
END:VCALENDAR
