BEGIN:VCALENDAR
VERSION:2.0
PRODID:SchoolNow
CALSCALE:GREGORIAN
BEGIN:VEVENT
UID:6b4ef51c-672b-11f0-9359-0afff061a507
DTSTAMP:20250722T184103Z
SUMMARY:President's Day (No School)
URL;VALUE=URI:https://www.hammond.k12.in.us/calendar/8438185/presidents-day
 -no-school
DTSTART;VALUE=DATE:20260216
DTEND;VALUE=DATE:20260217
END:VEVENT
END:VCALENDAR
