BEGIN:VCALENDAR
VERSION:2.0
PRODID:SchoolNow
CALSCALE:GREGORIAN
BEGIN:VEVENT
UID:4e33539c-672b-11f0-9fc5-0a58a9feac02
DTSTAMP:20250722T184014Z
SUMMARY:Martin Luther King Day (No School)
URL;VALUE=URI:https://www.hammond.k12.in.us/calendar/8438184/martin-luther-
 king-day-no-school
DTSTART;VALUE=DATE:20260119
DTEND;VALUE=DATE:20260120
END:VEVENT
END:VCALENDAR
