BEGIN:VCALENDAR
VERSION:2.0
PRODID:SchoolNow
CALSCALE:GREGORIAN
BEGIN:VEVENT
UID:d87a9caa-672a-11f0-8b92-0a58a9feac02
DTSTAMP:20250722T183656Z
SUMMARY:School Resumes\; 2nd Semester Begins
URL;VALUE=URI:https://www.hammond.k12.in.us/calendar/8438183/school-resumes
 -2nd-semester-begins
DTSTART;VALUE=DATE:20260106
DTEND;VALUE=DATE:20260107
END:VEVENT
END:VCALENDAR
