BEGIN:VCALENDAR
VERSION:2.0
PRODID:SchoolNow
CALSCALE:GREGORIAN
BEGIN:VEVENT
UID:b7e38dbc-672a-11f0-8f67-02cccf011091
DTSTAMP:20250722T183601Z
SUMMARY:Winter Recess (No School)
URL;VALUE=URI:https://www.hammond.k12.in.us/calendar/8438182/winter-recess-
 no-school
DTSTART;VALUE=DATE:20251222
DTEND;VALUE=DATE:20260103
END:VEVENT
END:VCALENDAR
