BEGIN:VCALENDAR
VERSION:2.0
PRODID:SchoolNow
CALSCALE:GREGORIAN
BEGIN:VEVENT
UID:5de09fe4-672a-11f0-a8ad-0a58a9feac02
DTSTAMP:20250722T183330Z
SUMMARY:End of 1st Semester
URL;VALUE=URI:https://www.hammond.k12.in.us/calendar/8437708/end-of-1st-sem
 ester
DTSTART;VALUE=DATE:20251219
DTEND;VALUE=DATE:20251220
END:VEVENT
END:VCALENDAR
