BEGIN:VCALENDAR
VERSION:2.0
PRODID:SchoolNow
CALSCALE:GREGORIAN
BEGIN:VEVENT
UID:edb4fb52-6729-11f0-a44b-0affdc5ee261
DTSTAMP:20250722T183022Z
SUMMARY:Thanksgiving Break (No School)
URL;VALUE=URI:https://www.hammond.k12.in.us/calendar/8437317/thanksgiving-b
 reak-no-school
DTSTART;VALUE=DATE:20251126
DTEND;VALUE=DATE:20251129
END:VEVENT
END:VCALENDAR
