BEGIN:VCALENDAR
VERSION:2.0
PRODID:SchoolNow
CALSCALE:GREGORIAN
BEGIN:VEVENT
UID:f1e94c6a-6728-11f0-81cf-0e1acee5daff
DTSTAMP:20250722T182320Z
SUMMARY:Asynchronous e-Learning Day/Teacher Work Day
URL;VALUE=URI:https://www.hammond.k12.in.us/calendar/8437311/asynchronous-e
 -learning-day-teacher-work-day
DTSTART;VALUE=DATE:20260313
DTEND;VALUE=DATE:20260314
END:VEVENT
END:VCALENDAR
