BEGIN:VCALENDAR
VERSION:2.0
PRODID:SchoolNow
CALSCALE:GREGORIAN
BEGIN:VEVENT
UID:9d51181e-6727-11f0-a427-0e1acee5daff
DTSTAMP:20250722T181348Z
SUMMARY:Asynchronous e-Learning Day & Parent/Teacher Conferences
URL;VALUE=URI:https://www.hammond.k12.in.us/calendar/8437306/asynchronous-e
 -learning-day-parent-teacher-conferences
DTSTART;VALUE=DATE:20260217
DTEND;VALUE=DATE:20260218
END:VEVENT
END:VCALENDAR
