BEGIN:VCALENDAR
VERSION:2.0
PRODID:SchoolNow
CALSCALE:GREGORIAN
BEGIN:VEVENT
UID:7871ba8a-6727-11f0-a3df-0a58a9feac02
DTSTAMP:20250722T181247Z
SUMMARY:Asynchronous e-Learning Day & Parent/Teacher Conferences
URL;VALUE=URI:https://www.hammond.k12.in.us/calendar/8437304/asynchronous-e
 -learning-day-parent-teacher-conferences
DTSTART;VALUE=DATE:20251103
DTEND;VALUE=DATE:20251104
END:VEVENT
END:VCALENDAR
