BEGIN:VCALENDAR
VERSION:2.0
PRODID:SchoolNow
CALSCALE:GREGORIAN
BEGIN:VEVENT
UID:3ccb2f66-6727-11f0-837d-0a58a9feac02
DTSTAMP:20250722T181106Z
SUMMARY:Fall Break (No School)
URL;VALUE=URI:https://www.hammond.k12.in.us/calendar/8437303/fall-break-no-
 school
DTSTART;VALUE=DATE:20251016
DTEND;VALUE=DATE:20251018
END:VEVENT
END:VCALENDAR
