BEGIN:VCALENDAR
VERSION:2.0
PRODID:SchoolNow
CALSCALE:GREGORIAN
BEGIN:VEVENT
UID:1f8ab69c-6727-11f0-84da-02cccf011091
DTSTAMP:20250722T181017Z
SUMMARY:Teacher Work Day (No School)
URL;VALUE=URI:https://www.hammond.k12.in.us/calendar/8437301/teacher-work-d
 ay-no-school
DTSTART;VALUE=DATE:20260601
DTEND;VALUE=DATE:20260602
END:VEVENT
END:VCALENDAR
