BEGIN:VCALENDAR
VERSION:2.0
PRODID:SchoolNow
CALSCALE:GREGORIAN
BEGIN:VEVENT
UID:01c18014-6727-11f0-9d6c-0a58a9feac02
DTSTAMP:20250722T180927Z
SUMMARY:Teacher Work Day (No School)
URL;VALUE=URI:https://www.hammond.k12.in.us/calendar/8437299/teacher-work-d
 ay-no-school
DTSTART;VALUE=DATE:20260105
DTEND;VALUE=DATE:20260106
END:VEVENT
END:VCALENDAR
