BEGIN:VCALENDAR
VERSION:2.0
PRODID:SchoolNow
CALSCALE:GREGORIAN
BEGIN:VEVENT
UID:a21bd1b4-6726-11f0-b0a6-02abdab9444b
DTSTAMP:20250722T180647Z
SUMMARY:End of Grading Period 1
URL;VALUE=URI:https://www.hammond.k12.in.us/calendar/8437297/end-of-grading
 -period-1
DTSTART;VALUE=DATE:20251014
DTEND;VALUE=DATE:20251015
END:VEVENT
END:VCALENDAR
