BEGIN:VCALENDAR
VERSION:2.0
PRODID:SchoolNow
CALSCALE:GREGORIAN
BEGIN:VEVENT
UID:80dcde62-6726-11f0-b893-0a58a9feac02
DTSTAMP:20250722T180551Z
SUMMARY:Labor Day (No School)
URL;VALUE=URI:https://www.hammond.k12.in.us/calendar/8437296/labor-day-no-s
 chool
DTSTART;VALUE=DATE:20250901
DTEND;VALUE=DATE:20250902
END:VEVENT
END:VCALENDAR
