BEGIN:VCALENDAR
VERSION:2.0
PRODID:SchoolNow
CALSCALE:GREGORIAN
BEGIN:VEVENT
UID:39b6f8ba-6726-11f0-b29f-0affdc5ee261
DTSTAMP:20250722T180831Z
SUMMARY:Teacher Work Day (No School)
URL;VALUE=URI:https://www.hammond.k12.in.us/calendar/8437295/teacher-work-d
 ay-no-school
DTSTART;VALUE=DATE:20250811
DTEND;VALUE=DATE:20250813
END:VEVENT
END:VCALENDAR
