BEGIN:VCALENDAR
VERSION:2.0
PRODID:SchoolNow
CALSCALE:GREGORIAN
BEGIN:VEVENT
UID:02a3a396-6726-11f0-9606-0275e559ef9f
DTSTAMP:20250722T180219Z
SUMMARY:First Day of School
URL;VALUE=URI:https://www.hammond.k12.in.us/calendar/8437294/first-day-of-s
 chool
DTSTART;VALUE=DATE:20250813
DTEND;VALUE=DATE:20250814
END:VEVENT
END:VCALENDAR
