BEGIN:VCALENDAR
VERSION:2.0
PRODID:SchoolNow
CALSCALE:GREGORIAN
BEGIN:VEVENT
UID:32e3f1a4-6722-11f0-a8a1-0a58a9feac02
DTSTAMP:20250722T173502Z
SUMMARY:School Board Meeting - 081925
LOCATION:Administration Center\, 41 Williams Street\, Hammond\, IN 46320
URL;VALUE=URI:https://www.hammond.k12.in.us/calendar/8437269/school-board-m
 eeting-081925
DTSTART:20250819T230000Z
DTEND:20250820T000000Z
END:VEVENT
END:VCALENDAR
