BEGIN:VCALENDAR
VERSION:2.0
PRODID:SchoolNow
CALSCALE:GREGORIAN
BEGIN:VEVENT
UID:180bff66-6722-11f0-b000-0a58a9feac02
DTSTAMP:20250722T173518Z
SUMMARY:School Board Meeting - 080525
LOCATION:Administration Center\, 41 Williams Street\, Hammond\, IN 46320
URL;VALUE=URI:https://www.hammond.k12.in.us/calendar/8437267/school-board-m
 eeting-080525
DTSTART:20250805T230000Z
DTEND:20250806T000000Z
END:VEVENT
END:VCALENDAR
