BEGIN:VCALENDAR
VERSION:2.0
PRODID:SchoolNow
CALSCALE:GREGORIAN
BEGIN:VEVENT
UID:ff57ea5c-6721-11f0-9be5-02cccf011091
DTSTAMP:20250815T195922Z
SUMMARY:Executive Session - 081925
LOCATION:Administration Center\, 41 Williams Street\, Hammond\, IN 46320
URL;VALUE=URI:https://www.hammond.k12.in.us/calendar/8437264/executive-sess
 ion-081925
DTSTART:20250819T221500Z
DTEND:20250819T230000Z
ATTACH;FILENAME=SCH_Exec Sess_Aug 2025.pdf;FMTTYPE=application/pdf:https://
 campussuite-storage.s3.amazonaws.com/prod/1559033/fab8744a-ab41-11ea-9bfa-
 127f10bcdb1b/2993732/4ca606b0-7a12-11f0-9838-0affc1bf85c7/file/SCH_Exec Se
 ss_Aug 2025.pdf
END:VEVENT
END:VCALENDAR
