BEGIN:VCALENDAR
VERSION:2.0
PRODID:SchoolNow
CALSCALE:GREGORIAN
BEGIN:VEVENT
UID:da34dbcc-6721-11f0-b6c1-0a58a9feac02
DTSTAMP:20250722T173234Z
SUMMARY:Executive Session - 080525
LOCATION:Administration Center\, 41 Williams Street\, Hammond\, IN 46320
URL;VALUE=URI:https://www.hammond.k12.in.us/calendar/8437261/executive-sess
 ion-080525
DTSTART:20250805T221500Z
DTEND:20250805T230000Z
ATTACH;FILENAME=SCH_Exec Sess_Jul Aug 2025.pdf;FMTTYPE=application/pdf:http
 s://campussuite-storage.s3.amazonaws.com/prod/1559033/fab8744a-ab41-11ea-9
 bfa-127f10bcdb1b/2984078/b9f56868-6721-11f0-9359-0affca91faff/file/SCH_Exe
 c Sess_Jul Aug 2025.pdf
END:VEVENT
END:VCALENDAR
