BEGIN:VCALENDAR
VERSION:2.0
PRODID:SchoolNow
CALSCALE:GREGORIAN
BEGIN:VEVENT
UID:c16af2c0-6721-11f0-a7fc-0a58a9feac02
DTSTAMP:20250722T173152Z
SUMMARY:Executive Session - 072925
LOCATION:Administration Center\, 41 Williams Street\, Hammond\, IN 46320
URL;VALUE=URI:https://www.hammond.k12.in.us/calendar/8437258/executive-sess
 ion-072925
DTSTART:20250729T223000Z
DTEND:20250729T233000Z
ATTACH;FILENAME=SCH_Exec Sess_Jul Aug 2025.pdf;FMTTYPE=application/pdf:http
 s://campussuite-storage.s3.amazonaws.com/prod/1559033/fab8744a-ab41-11ea-9
 bfa-127f10bcdb1b/2984078/b9f56868-6721-11f0-9359-0affca91faff/file/SCH_Exe
 c Sess_Jul Aug 2025.pdf
END:VEVENT
END:VCALENDAR
