BEGIN:VCALENDAR
VERSION:2.0
PRODID:SchoolNow
CALSCALE:GREGORIAN
BEGIN:VEVENT
UID:496e170a-5102-11f0-a9de-0ef924d70cdd
DTSTAMP:20250624T135111Z
SUMMARY:School Board Meeting - 071525
LOCATION:Administration Center\, 41 Williams Street\, Hammond\, IN 46320
URL;VALUE=URI:https://www.hammond.k12.in.us/calendar/8348085/school-board-m
 eeting-071525
DTSTART:20250715T230000Z
DTEND:20250716T000000Z
END:VEVENT
END:VCALENDAR
