BEGIN:VCALENDAR
VERSION:2.0
PRODID:SchoolNow
CALSCALE:GREGORIAN
BEGIN:VEVENT
UID:1431640c-5102-11f0-974e-0a58a9feac02
DTSTAMP:20250624T134941Z
SUMMARY:Special Board Meeting - 070125
LOCATION:Administration Center\, 41 Williams Street\, Hammond\, IN 46320
URL;VALUE=URI:https://www.hammond.k12.in.us/calendar/8348082/special-board-
 meeting-070125
DTSTART:20250701T230000Z
DTEND:20250702T000000Z
ATTACH;FILENAME=SCH_Spec Brd Mtg Exec Sess_JuL 2025.pdf;FMTTYPE=application
 /pdf:https://campussuite-storage.s3.amazonaws.com/prod/1559033/fab8744a-ab
 41-11ea-9bfa-127f10bcdb1b/2973277/084e68ce-5102-11f0-a540-029333af7875/fil
 e/SCH_Spec Brd Mtg Exec Sess_JuL 2025.pdf
END:VEVENT
END:VCALENDAR
