BEGIN:VCALENDAR
VERSION:2.0
PRODID:SchoolNow
CALSCALE:GREGORIAN
BEGIN:VEVENT
UID:6c08324a-456e-11f0-b3a9-0affe11e2879
DTSTAMP:20250609T201500Z
SUMMARY:Executive Session - 061725
LOCATION:Administration Center\, 41 Williams Street\, Hammond\, IN 46320
URL;VALUE=URI:https://www.hammond.k12.in.us/calendar/8276404/executive-sess
 ion-061725
DTSTART:20250617T223000Z
DTEND:20250617T233000Z
ATTACH;FILENAME=SCH_Executive Sessions_Jun 2025.pdf;FMTTYPE=application/pdf
 :https://campussuite-storage.s3.amazonaws.com/prod/1559033/fab8744a-ab41-1
 1ea-9bfa-127f10bcdb1b/2966132/5b648600-456e-11f0-bc60-022fd56b161f/file/SC
 H_Executive Sessions_Jun 2025.pdf
END:VEVENT
END:VCALENDAR
