BEGIN:VCALENDAR
VERSION:2.0
PRODID:SchoolNow
CALSCALE:GREGORIAN
BEGIN:VEVENT
UID:4b9a4c5a-40af-11f0-a52f-0a58a9feac02
DTSTAMP:20250609T201439Z
SUMMARY:Executive Session - 061825
LOCATION:Administration Center\, 41 Williams Street\, Hammond\, IN 46320
URL;VALUE=URI:https://www.hammond.k12.in.us/calendar/8246910/executive-sess
 ion-061825
DTSTART:20250618T221500Z
DTEND:20250618T230000Z
ATTACH;FILENAME=SCH_Executive Sessions_Jun 2025.pdf;FMTTYPE=application/pdf
 :https://campussuite-storage.s3.amazonaws.com/prod/1559033/fab8744a-ab41-1
 1ea-9bfa-127f10bcdb1b/2966132/5b648600-456e-11f0-bc60-022fd56b161f/file/SC
 H_Executive Sessions_Jun 2025.pdf
END:VEVENT
END:VCALENDAR
