BEGIN:VCALENDAR
VERSION:2.0
PRODID:SchoolNow
CALSCALE:GREGORIAN
BEGIN:VEVENT
UID:386d3df4-40af-11f0-a643-0affec5dcef5
DTSTAMP:20250603T191615Z
SUMMARY:School Board Meeting - 061825
LOCATION:Administration Center\, 41 Williams Street\, Hammond\, IN 46320
URL;VALUE=URI:https://www.hammond.k12.in.us/calendar/8246909/school-board-m
 eeting-061825
DTSTART:20250618T230000Z
DTEND:20250619T000000Z
END:VEVENT
END:VCALENDAR
