BEGIN:VCALENDAR
VERSION:2.0
PRODID:SchoolNow
CALSCALE:GREGORIAN
BEGIN:VEVENT
UID:48cc743c-2762-11f0-9bcc-02d28d33b207
DTSTAMP:20250502T143233Z
SUMMARY:School Board Meeting - 051325
LOCATION:Administration Center\, 41 Williams Street\, Hammond\, IN 46320
URL;VALUE=URI:https://www.hammond.k12.in.us/calendar/8052400/school-board-m
 eeting-051325
DTSTART:20250513T230000Z
DTEND:20250514T000000Z
END:VEVENT
END:VCALENDAR
