BEGIN:VCALENDAR
VERSION:2.0
PRODID:SchoolNow
CALSCALE:GREGORIAN
BEGIN:VEVENT
UID:a10bf89c-211e-11f0-b266-02dc256d4329
DTSTAMP:20250424T151308Z
SUMMARY:Executive Session - 042925
LOCATION:Administration Center\, 41 Williams Street\, Hammond\, IN 46320
URL;VALUE=URI:https://www.hammond.k12.in.us/calendar/7999118/executive-sess
 ion-041525-clone
DTSTART:20250429T223000Z
DTEND:20250429T233000Z
ATTACH;FILENAME=SCH_Executive Sessions_Apr 29 2025.pdf;FMTTYPE=application/
 pdf:https://campussuite-storage.s3.amazonaws.com/prod/1559033/fab8744a-ab4
 1-11ea-9bfa-127f10bcdb1b/2944173/9082bc72-211e-11f0-ae7f-0e3d90fcdd15/file
 /SCH_Executive Sessions_Apr 29 2025.pdf
END:VEVENT
END:VCALENDAR
