BEGIN:VCALENDAR
VERSION:2.0
PRODID:SchoolNow
CALSCALE:GREGORIAN
BEGIN:VEVENT
UID:44841722-10a1-11f0-b0a4-0a58a9feac02
DTSTAMP:20250403T153527Z
SUMMARY:Executive Session - 040825
LOCATION:Administration Center\, 41 Williams Street\, Hammond\, IN 46320
URL;VALUE=URI:https://www.hammond.k12.in.us/calendar/7841450/executive-sess
 ion-040825
DTSTART:20250408T223000Z
DTEND:20250408T233000Z
ATTACH;FILENAME=SCH_Executive Session_Apr 08 25.pdf;FMTTYPE=application/pdf
 :https://campussuite-storage.s3.amazonaws.com/prod/1559033/fab8744a-ab41-1
 1ea-9bfa-127f10bcdb1b/2935626/3c2d41fc-10a1-11f0-acc0-0a58a9feac02/file/SC
 H_Executive Session_Apr 08 25.pdf
END:VEVENT
END:VCALENDAR
