BEGIN:VCALENDAR
VERSION:2.0
PRODID:SchoolNow
CALSCALE:GREGORIAN
BEGIN:VEVENT
UID:e47d234a-0b24-11f0-91bd-0a58a9feac02
DTSTAMP:20250327T160232Z
SUMMARY:School Board Meeting - 041525
LOCATION:Administration Center\, 41 Williams Street\, Hammond\, IN 46320
URL;VALUE=URI:https://www.hammond.k12.in.us/calendar/7787457/school-board-m
 eeting-041525
DTSTART:20250415T230000Z
DTEND:20250416T000000Z
END:VEVENT
END:VCALENDAR
