BEGIN:VCALENDAR
VERSION:2.0
PRODID:SchoolNow
CALSCALE:GREGORIAN
BEGIN:VEVENT
UID:d291dc5c-0b24-11f0-b8d3-0affd62860c1
DTSTAMP:20250327T160202Z
SUMMARY:Public Work Session - 040125
LOCATION:Administration Center\, 41 Williams Street\, Hammond\, IN 46320
URL;VALUE=URI:https://www.hammond.k12.in.us/calendar/7787456/public-work-se
 ssion-040125
DTSTART:20250401T230000Z
DTEND:20250402T000000Z
ATTACH;FILENAME=SCH_Executive Sessions_Apr 2025.pdf;FMTTYPE=application/pdf
 :https://campussuite-storage.s3.amazonaws.com/prod/1559033/fab8744a-ab41-1
 1ea-9bfa-127f10bcdb1b/2932730/272197da-0a71-11f0-98f6-0a58a9feac02/file/SC
 H_Executive Sessions_Apr 2025.pdf
END:VEVENT
END:VCALENDAR
