BEGIN:VCALENDAR
VERSION:2.0
PRODID:SchoolNow
CALSCALE:GREGORIAN
BEGIN:VEVENT
UID:4e37f6e8-0a71-11f0-9f3b-0a58a9feac02
DTSTAMP:20250326T183700Z
SUMMARY:Executive Session - 041525
LOCATION:Administration Center\, 41 Williams Street\, Hammond\, IN 46320
URL;VALUE=URI:https://www.hammond.k12.in.us/calendar/7779561/executive-sess
 ion-041525
DTSTART:20250415T221500Z
DTEND:20250415T230000Z
ATTACH;FILENAME=SCH_Executive Sessions_Apr 2025.pdf;FMTTYPE=application/pdf
 :https://campussuite-storage.s3.amazonaws.com/prod/1559033/fab8744a-ab41-1
 1ea-9bfa-127f10bcdb1b/2932730/272197da-0a71-11f0-98f6-0a58a9feac02/file/SC
 H_Executive Sessions_Apr 2025.pdf
END:VEVENT
END:VCALENDAR
