BEGIN:VCALENDAR
VERSION:2.0
PRODID:SchoolNow
CALSCALE:GREGORIAN
BEGIN:VEVENT
UID:8b0fd21e-fab5-11ef-b7e5-020b0926a1bd
DTSTAMP:20250306T180533Z
SUMMARY:Executive Session - 031125
LOCATION:Administration Center\, 41 Williams Street\, Hammond\, IN 46320
URL;VALUE=URI:https://www.hammond.k12.in.us/calendar/7617723/executive-sess
 ion-031125
DTSTART:20250311T223000Z
DTEND:20250311T233000Z
ATTACH;FILENAME=SCH_Executive Sessions_031125.pdf;FMTTYPE=application/pdf:h
 ttps://campussuite-storage.s3.amazonaws.com/prod/1559033/fab8744a-ab41-11e
 a-9bfa-127f10bcdb1b/2923633/86337fd4-fab5-11ef-9355-0a58a9feac02/file/SCH_
 Executive Sessions_031125.pdf
END:VEVENT
END:VCALENDAR
