BEGIN:VCALENDAR
VERSION:2.0
PRODID:SchoolNow
CALSCALE:GREGORIAN
BEGIN:VEVENT
UID:3bc3d206-f519-11ef-abc5-02048fe608e3
DTSTAMP:20250227T144339Z
SUMMARY:School Board Meeting - 031825
LOCATION:Administration Center\, 41 Williams Street\, Hammond\, IN 46320
URL;VALUE=URI:https://www.hammond.k12.in.us/calendar/7561919/school-board-m
 eeting-031825
DTSTART:20250318T230000Z
DTEND:20250319T000000Z
END:VEVENT
END:VCALENDAR
