BEGIN:VCALENDAR
VERSION:2.0
PRODID:SchoolNow
CALSCALE:GREGORIAN
BEGIN:VEVENT
UID:303f8d30-f519-11ef-b122-0a58a9feac02
DTSTAMP:20250227T144320Z
SUMMARY:School Board Meeting - 030425
LOCATION:Administration Center\, 41 Williams Street\, Hammond\, IN 46320
URL;VALUE=URI:https://www.hammond.k12.in.us/calendar/7561918/school-board-m
 eeting-030425
DTSTART:20250305T000000Z
DTEND:20250305T010000Z
END:VEVENT
END:VCALENDAR
