BEGIN:VCALENDAR
VERSION:2.0
PRODID:SchoolNow
CALSCALE:GREGORIAN
BEGIN:VEVENT
UID:227825e0-f519-11ef-a210-0a58a9feac02
DTSTAMP:20250227T144257Z
SUMMARY:Executive Session - 031825
LOCATION:Administration Center\, 41 Williams Street\, Hammond\, IN 46320
URL;VALUE=URI:https://www.hammond.k12.in.us/calendar/7561917/executive-sess
 ion-031825
DTSTART:20250318T221500Z
DTEND:20250318T230000Z
ATTACH;FILENAME=SCH_Executive Sessions_March 2025.pdf;FMTTYPE=application/p
 df:https://campussuite-storage.s3.amazonaws.com/prod/1559033/fab8744a-ab41
 -11ea-9bfa-127f10bcdb1b/2920320/076d13dc-f519-11ef-844a-02048fe608e3/file/
 SCH_Executive Sessions_March 2025.pdf
END:VEVENT
END:VCALENDAR
