BEGIN:VCALENDAR
VERSION:2.0
PRODID:SchoolNow
CALSCALE:GREGORIAN
BEGIN:VEVENT
UID:19a4c18a-f519-11ef-ada3-02ca1240070b
DTSTAMP:20250227T144242Z
SUMMARY:Executive Session - 030425
LOCATION:Administration Center\, 41 Williams Street\, Hammond\, IN 46320
URL;VALUE=URI:https://www.hammond.k12.in.us/calendar/7561916/executive-sess
 ion-030425
DTSTART:20250304T231500Z
DTEND:20250305T000000Z
ATTACH;FILENAME=SCH_Executive Sessions_March 2025.pdf;FMTTYPE=application/p
 df:https://campussuite-storage.s3.amazonaws.com/prod/1559033/fab8744a-ab41
 -11ea-9bfa-127f10bcdb1b/2920320/076d13dc-f519-11ef-844a-02048fe608e3/file/
 SCH_Executive Sessions_March 2025.pdf
END:VEVENT
END:VCALENDAR
