BEGIN:VCALENDAR
VERSION:2.0
PRODID:SchoolNow
CALSCALE:GREGORIAN
BEGIN:VEVENT
UID:3952aa16-d36c-11ef-b1e8-0a58a9feac02
DTSTAMP:20250115T181217Z
SUMMARY:Executive Session - 012525
LOCATION:Administration Center\, 41 Williams Street\, Hammond\, IN 46320
URL;VALUE=URI:https://www.hammond.k12.in.us/calendar/7321177/executive-sess
 ion-012525
DTSTART:20250125T140000Z
DTEND:20250125T180000Z
ATTACH;FILENAME=SCH_Executive Sessions_Jan 2025.pdf;FMTTYPE=application/pdf
 :https://campussuite-storage.s3.amazonaws.com/prod/1559033/fab8744a-ab41-1
 1ea-9bfa-127f10bcdb1b/2902863/26286e0e-d36b-11ef-8857-0a58a9feac02/file/SC
 H_Executive Sessions_Jan 2025.pdf
END:VEVENT
END:VCALENDAR
