BEGIN:VCALENDAR
VERSION:2.0
PRODID:SchoolNow
CALSCALE:GREGORIAN
BEGIN:VEVENT
UID:e06d6a30-5f3a-11ef-a817-0affdb8db763
DTSTAMP:20240820T212703Z
SUMMARY:Public Hearing of the HTF and the SCH
LOCATION:Administration Center\, 41 Williams Street\, Hammond\, IN 46320
URL;VALUE=URI:https://www.hammond.k12.in.us/calendar/6433390/public-hearing
 -of-the-htf-and-the-sch
DTSTART:20240826T210000Z
DTEND:20240826T220000Z
ATTACH;FILENAME=Notice_Public_Hearing_HTF SCH_08262024.pdf;FMTTYPE=applicat
 ion/pdf:https://campussuite-storage.s3.amazonaws.com/prod/1559033/fab8744a
 -ab41-11ea-9bfa-127f10bcdb1b/2833834/d6f81ba8-5f3a-11ef-a2dc-0a58a9feac02/
 file/Notice_Public_Hearing_HTF SCH_08262024.pdf
END:VEVENT
END:VCALENDAR
