BEGIN:VCALENDAR
VERSION:2.0
PRODID:SchoolNow
CALSCALE:GREGORIAN
BEGIN:VEVENT
UID:56b6b538-5028-11ef-8ea3-0e2d80489dd7
DTSTAMP:20240801T170605Z
SUMMARY:School Board Meeting - August 20\, 2024
LOCATION:Administration Center\, 41 Williams Street\, Hammond\, IN 46320
URL;VALUE=URI:https://www.hammond.k12.in.us/calendar/6339933/school-board-m
 eeting-august-20-2024
DTSTART:20240820T233000Z
DTEND:20240821T003000Z
END:VEVENT
END:VCALENDAR
