BEGIN:VCALENDAR
VERSION:2.0
PRODID:SchoolNow
CALSCALE:GREGORIAN
BEGIN:VEVENT
UID:418a25b4-5028-11ef-bab2-0a58a9feac02
DTSTAMP:20240806T213609Z
SUMMARY:CANCELED - Public Work Session - August 6\, 2024
LOCATION:Administration Center\, 41 Williams Street\, Hammond\, IN 46320
URL;VALUE=URI:https://www.hammond.k12.in.us/calendar/6339932/public-work-se
 ssion-august-6-2024
DTSTART:20240806T233000Z
DTEND:20240807T003000Z
END:VEVENT
END:VCALENDAR
